BEGIN:VCALENDAR
VERSION:2.0
PRODID:-//Mr. Twogoobs - ECPv6.14.2//NONSGML v1.0//EN
CALSCALE:GREGORIAN
METHOD:PUBLISH
X-ORIGINAL-URL:https://mrtwogoobs.com
X-WR-CALDESC:Events for Mr. Twogoobs
REFRESH-INTERVAL;VALUE=DURATION:PT1H
X-Robots-Tag:noindex
X-PUBLISHED-TTL:PT1H
BEGIN:VTIMEZONE
TZID:UTC
BEGIN:STANDARD
TZOFFSETFROM:+0000
TZOFFSETTO:+0000
TZNAME:UTC
DTSTART:20250101T000000
END:STANDARD
END:VTIMEZONE
BEGIN:VEVENT
DTSTART;TZID=UTC:20250215T110000
DTEND;TZID=UTC:20250215T170000
DTSTAMP:20260419T162728
CREATED:20250210T011354Z
LAST-MODIFIED:20250209T204147Z
UID:329-1739617200-1739638800@mrtwogoobs.com
SUMMARY:Snow Moon Market
DESCRIPTION:Will be vending at the Snow Moon Market in Kingston\, NY on Saturday 15th\, February. \nPlanning to bring 8 x 10 in prints\, fridge magnets\, stickers and some small works on canvas panel.
URL:https://mrtwogoobs.com/event/snow-moon-market/
LOCATION:Snow Moon Market\, 35 N Front St\, Kingston\, NY\, 12401\, United States
CATEGORIES:Vending
ATTACH;FMTTYPE=image/jpeg:https://mrtwogoobs.com/wp-content/uploads/2025/02/Snow-Moon-Market.jpg
END:VEVENT
BEGIN:VEVENT
DTSTART;TZID=UTC:20250214T170000
DTEND;TZID=UTC:20250214T200000
DTSTAMP:20260419T162728
CREATED:20250210T004409Z
LAST-MODIFIED:20250209T204122Z
UID:323-1739552400-1739563200@mrtwogoobs.com
SUMMARY:Love In Color Opening Reception
DESCRIPTION:I will be attending the opening reception for the Love In Color Show at 5pm on Valentine’s Day. \n“Love in Color is about the beauty of love expressed through vivid\, diverse colors. It shows how love connects people \, blending shades of emotion\, culture and connection.
URL:https://mrtwogoobs.com/event/love-in-color-opening-reception/
LOCATION:Newark Local Beer\, 538 Broad St\, Newark\, NJ\, 07102\, United States
CATEGORIES:Artist Reception
ATTACH;FMTTYPE=image/jpeg:https://mrtwogoobs.com/wp-content/uploads/2025/02/Love-in-Color.jpg
END:VEVENT
END:VCALENDAR